BEGIN:VCALENDAR
VERSION:2.0
PRODID:-//SWLT Egyesület - ECPv6.15.20//NONSGML v1.0//EN
CALSCALE:GREGORIAN
METHOD:PUBLISH
X-WR-CALNAME:SWLT Egyesület
X-ORIGINAL-URL:https://swlt.hu
X-WR-CALDESC:Események SWLT Egyesület
REFRESH-INTERVAL;VALUE=DURATION:PT1H
X-Robots-Tag:noindex
X-PUBLISHED-TTL:PT1H
BEGIN:VTIMEZONE
TZID:UTC
BEGIN:STANDARD
TZOFFSETFROM:+0000
TZOFFSETTO:+0000
TZNAME:UTC
DTSTART:20220101T000000
END:STANDARD
END:VTIMEZONE
BEGIN:VEVENT
DTSTART;TZID=UTC:20231029T210000
DTEND;TZID=UTC:20231029T210000
DTSTAMP:20260422T220941
CREATED:20231010T095521Z
LAST-MODIFIED:20231010T095521Z
UID:752-1698613200-1698613200@swlt.hu
SUMMARY:SWLT Női Kör- Csak Csajok online beszélgetős est- TÉMA: Miért pont a őt?- választások és ízlések
DESCRIPTION:Szeretettel invitálok minden női SWLT tagunkat egy csajos estre 🙂 \nA pizsama partykat anno azért hoztam életre\, mert azt gondoltam\, jó lenne egy este csak nekünk\, kibeszélni mindent\, ami bennünk zajlik. A programok ezeket a beszélgetéseket időnként már elnyomják\, nehéz a váltás\, ezért életre hoznám 3 havonta ezt az online női kört\, hogy alkalomról- alkalomra egy- egy témát boncolgatva belemerüljünk a gondolatainkba\, érzéseinkbe egy biztonságos\, baráti körben… \nAz esemény díjmentes\, de SWLT tagsághoz kötött! \nEgyesületi regisztráció:\n \nA programra külön regisztráció nem szükséges\, az alábbi zoom szobában várlak Titeket este 9- től…\nKérek mindenkit\, hogy a bejelentkezéskor a neve elé a tagsági kódját is írja be\, csak ezzel engedélyezem a belépést 🙂\nJoin Zoom Meeting\nhttps://us06web.zoom.us/j/8099558806…\nMeeting ID: 809 955 8806\nPasscode: 6nG0ER \nA következő Női Körre várok témajavaslatokat\, Ti miről beszélgetnétek szívesen?
URL:https://swlt.hu/event/swlt-noi-kor-csak-csajok-online-beszelgetos-est-tema-miert-pont-a-ot-valasztasok-es-izlesek/
END:VEVENT
END:VCALENDAR