BEGIN:VCALENDAR
VERSION:2.0
PRODID:-//SWLT Egyesület - ECPv6.15.20//NONSGML v1.0//EN
CALSCALE:GREGORIAN
METHOD:PUBLISH
X-ORIGINAL-URL:https://swlt.hu
X-WR-CALDESC:Események SWLT Egyesület
REFRESH-INTERVAL;VALUE=DURATION:PT1H
X-Robots-Tag:noindex
X-PUBLISHED-TTL:PT1H
BEGIN:VTIMEZONE
TZID:UTC
BEGIN:STANDARD
TZOFFSETFROM:+0000
TZOFFSETTO:+0000
TZNAME:UTC
DTSTART:20220101T000000
END:STANDARD
END:VTIMEZONE
BEGIN:VEVENT
DTSTART;TZID=UTC:20231020T180000
DTEND;TZID=UTC:20231020T180000
DTSTAMP:20260422T221110
CREATED:20230919T132338Z
LAST-MODIFIED:20230919T132338Z
UID:712-1697824800-1697824800@swlt.hu
SUMMARY:Menjünk együtt szabadulószobába! - Erogén Zóna
DESCRIPTION:Imádok játszani és imádom a szabadulós szobákat és találtam egy újabb pajzánt\, amit mindenképpen Veletek próbálnék ki 🙂\nMax 18 főt tudnak fogadni\, de egymás után is játszhatunk csapatban\, ha többen jövünk össze…\nAz a terv\, hogy 6- kor találkozunk egy közeli pub- ban\, 19.00- tól indul a játék\, ami kb 1 óra\, majd akár közösen tovább is mehetünk egy klubba\, ha a csapat úgy dönt 🙂 \nNo\, jól hangzik? 🙂 \nA szoba ára: 4500 Ft/fő (mely pezsgőt és a belépőt tartalmazza) \nA Pub- ban mindenki fogyasztás alapján fizet\, a klubban pedig a szokásos belépőt…\nGyertek\, legyen egy jó esténk…. \nEseményregisztráció:\n \nEseményeinket egyesületi tagjainknak szervezzük. Ha nem vagy még tag\, itt tudsz regisztrálni:\n \nA szobáról:\nEgy pornófilmforgatás helyszínére érkeztek\, hogy résztvegyetek életetek legnagyobb felnőttfilmes produkciójában. Ez lehet az ugródeszka mindnyájatok számára. Azonban valami nem stimmel\, egy társatok hiányzik. Még nem találkoztatok vele\, azonban sokat hallottatok már róla és azt mondják nélküle még a forgatást sem lehet elkezdeni. A stáb szerint egy őrült rajongó belopózott a stúdióba és megpróbálta elrabolni Sindy Lou-t\, ő azonban biztos helyen rejtőzködik. A feladatotok\, hogy megkeressétek a stúdió legértékesebb tagját\, mielőtt kezdetét veszi a forgatás. Siessetek\, nehogy a támadója találjon rá előbb! \nKérünk\, a program díját regisztrációt követő 2 napon belül utald el az alábbi számlaszámra:\nSWLT Egyesület- Revolut IBAN LT51\n3250 0326 6896 7293\nSWLT Molnár Orsolya – WISE\n12600016-10249771-83760212 \nKözleménybe\, TÁMOGATÁS és a tagsági kódodat (ha van)\, valamint az esemény dátumát írd (aki bizonytalan a kódját illetően\, keressen) SEMMI MÁST NE ÍRJATOK KÖZLEMÉNYBE- KÜLÖNÖSEN AZT NE\, HOGY SWINGER BULI 😂Fennmaradó összeg helyszínen KP- ban vagy szintén átutalással fizetendő… \nAz eseményt megelőző 72 órán belüli lemondást már nem áll módunkban elfogadni\, ebben az esetben már a teljes díj fizetendő.
URL:https://swlt.hu/event/menjunk-egyutt-szabaduloszobaba-erogen-zona-2/
END:VEVENT
END:VCALENDAR