BEGIN:VCALENDAR
VERSION:2.0
PRODID:-//SWLT Egyesület - ECPv6.15.20//NONSGML v1.0//EN
CALSCALE:GREGORIAN
METHOD:PUBLISH
X-ORIGINAL-URL:https://swlt.hu
X-WR-CALDESC:Események SWLT Egyesület
REFRESH-INTERVAL;VALUE=DURATION:PT1H
X-Robots-Tag:noindex
X-PUBLISHED-TTL:PT1H
BEGIN:VTIMEZONE
TZID:UTC
BEGIN:STANDARD
TZOFFSETFROM:+0000
TZOFFSETTO:+0000
TZNAME:UTC
DTSTART:20220101T000000
END:STANDARD
END:VTIMEZONE
BEGIN:VEVENT
DTSTART;TZID=UTC:20231006T180000
DTEND;TZID=UTC:20231007T180000
DTSTAMP:20260422T221042
CREATED:20230911T161106Z
LAST-MODIFIED:20230911T161106Z
UID:691-1696615200-1696701600@swlt.hu
SUMMARY:Társasjáték Party Light - Ismerkedős játékest
DESCRIPTION:2023- tól Társasjáték partyjainkat LIGHT és HARDCORE verzióban is kínáljuk 🙂 \nA Light az eddigi\, megszokott\, szexmentes ismerkedés célozza meg\, míg a Hardcore egy kicsit pikánsabb lesz…\nVáltozatos játékokkal várunk Benneteket! \nJátékmester: Ors \nHelyszín: Bp.- magánlakás \nRészvételi díj a teljes programra:\nCsapatjátékos tagjainknak és első SWLT esemény résztvevőknek: 10 000 Ft/fő\nFanatikus/VIP tagjainknak: -20 % kedvezmény!\nMindenki másnak: + 20 % felár \nA díj tartalmazza a nasit\, szendvicseket\, alkoholmentes italokat\, helyszínt és természetesen magát a programot és a jó hangulatot.\nAlkoholos ital szabadon hozható\, pár üveggel (bor\, Jager…) mi is készülünk 🙂 \nAz eseményen csak egyesületi tagok vehetnek részt!!!! \nEgyesületi regisztráció:\n \nRegisztráció a Társasjáték Partyra:\n \nAz eseményt 10 főtől megtartjuk 🙂 \nKérünk\, a program 5 000 Ft- os regisztrációs díját regisztrációt követő 2 napon belül utald el az alábbi számlaszámra: \nSWLT Egyesület- Revolut: Revtag @swlt \nWise:\nMolnár Orsolya SWLT\n12600016-10249771-83760212 \nKözleménybe\, TÁMOGATÁS és a tagsági kódodat (ha van)\, valamint az esemény dátumát írd (aki bizonytalan a kódját illetően\, keressen) SEMMI MÁST NE ÍRJATOK KÖZLEMÉNYBE- KÜLÖNÖSEN AZT NE\, HOGY SWINGER BULI 😂Fennmaradó összeg helyszínen KP- ban vagy szintén átutalással fizetendő…\nAz eseményt megelőző 72 órán belüli lemondást már nem áll módunkban elfogadni\, ebben az esetben már a teljes díj fizetendő.
URL:https://swlt.hu/event/tarsasjatek-party-light-ismerkedos-jatekest-3/
END:VEVENT
BEGIN:VEVENT
DTSTART;TZID=UTC:20231007T160000
DTEND;TZID=UTC:20231008T040000
DTSTAMP:20260422T221042
CREATED:20230923T092126Z
LAST-MODIFIED:20231120T230954Z
UID:717-1696694400-1696737600@swlt.hu
SUMMARY:Youngerst
DESCRIPTION:Október 7. – Korhatáros Party \nMár több nagysikerű SWLT Youngerst buli után terveink és igény szerint 2 havonta mindig megújuló tematikával és más- más helyszínen\, de teret adunk a fiatalabb korosztálynak\, hogy egymás társaságát élvezzék… 45 éves kor a pár mindkét tagjának felső korhatára.  \nHelyszín: Budapest 7. kerület\, Maximum 50 fő \nMit kell tenned\, ha ott szeretnél lenni?\n1) Add le a regisztrációt https://form.jotform.com/230092022813039\nA regisztráció leadása után még aznap visszajelzünk\, hogy tudunk-e fogadni és küldjük a tudnivalókat.\n Kérlek amíg nem válaszoltunk NE UTALJ 🙂\n2) Arcos képcsere és videóhívás elengedhetetlen\, ha nem ismerjük még egymást!  \nNem elég az ott leszek gomb megnyomása\, kérlek ad le a regisztrációt várd meg míg írunk Messengeren\, hogy tudunk-e fogani és küldjük az utaláshoz szükséges adatokat\, és az esemény címét. Köszike  \nOktóber 7. esemény részletei \nDélutáni programunk:\n16:00 -tól szexmentes programokkal várunk benneteket.\nIdeális a kezdő swingereknek\, hogy őszintén\, nyugodt közegben tudjanak beszélgetni tapasztaltabb swingerekkel és legyen idejük feloldódni\, ismerkedni és ráhangolódni az estére. Csak délutánra is el lehet jönni! \nEsti programunk:\n20:00-tól pedig indul a fiatalos tematikus swinger éjszaka hajnali 4-ig\nA pontos címet csak a résztvevőkkel osztjuk meg.\nKezdőknek mindenképp ajánlott időben/korán érkezés\, a könnyebb oldódás és ismerkedés miatt! \nEsemény kezdete 16:00 h\nÉrkezés 21:00 h-ig\, utána kapuzárás!\nParty vége legkésőbb 4:00 és ezt kérjük tartani\, hisz nem saját helyszínen vagyunk!  \nKérlek vegyétek figyelembe\, hogy nekünk nincs saját helyszínünk\, így minden eseményre az adott helyszínre a party kellékeket mi visszük oda\, és rendezük be minden alkalommal a teret.\nAz ételeket mindig Merci főzi és mindent\, amit tudunk biztosítunk\, de törülközővel és lepedővel csak korlátozott számban tudunk szolgálni. \nVendéglátás:\nA délután során alkoholmentes italkínálatot biztosítunk\, nasival és szendvicsekkel várunk Titeket. Este kibővített melegételkínálat és korlátozott mennyiségben és választékban alkoholos itallal is készülünk.\nAz egésznapos hozzájárulás tartalmazza a helyszínt\, programokat\, szervezési költségeket\, korlátlan alkoholmentes italkínálatot\, nasit és hidegtálat\, szendvicseket.\nEstére korlátozott számban meleg ételt\, óvszereket\, törülközőket\, síkosítót és természetesen magát a jó hangulatot.\nAlkoholos ital (kis mennyiségben) és saját készítésű sütemény szabadon hozható! \nDresscode most az egész esemény idejére:  minden\, ami FARMER!!\nSzexi Farmer ruházatot kérünk bármi\, ami farmer… kantáros nadrág\, miniszoknya\, nadrág.  \nUrak\, kérlek most titeket az este ne alsónadrágban legyetek\, hanem farmer hosszú vagy rövidnadrágban \, a felső vagy farmer ing/póló\, ha nincs farmer akkor csak a csupasz felső test a kérés. \nHozzájárulás:\nAki csak a délutáni ismerkedős programra jönne:\nTagság nélkül a délutáni program: 8.000 Ft/ fő\nSWLT- s tagsággal a délutáni programra egységesen 6000 Ft/ Fő\nEgész program 16:00-4:00 h ig tart\nRészvételi díj az egész programra: \n-Szóló hölgyeknek díjmentes!\n-VIP Pároknak és szóló férfiaknak: 25.000 Ft\n-Csapatjátékos Pároknak és szóló férfiaknak: 28.000 Ft\n– Újaknak\, az első SWLT eseményen résztvevőknek vagy SWLT Megfigyelő tagsággal rendelkezőknek Párok és szóló férfiak esetén is: 30.000 Ft \nAz eseményt megelőző 72 órán belüli lemondást már nem áll módunkban elfogadni\, ebben az esetben már a teljes díj fizetendő.
URL:https://swlt.hu/event/youngest/
END:VEVENT
END:VCALENDAR