BEGIN:VCALENDAR
VERSION:2.0
PRODID:-//SWLT Egyesület - ECPv6.15.20//NONSGML v1.0//EN
CALSCALE:GREGORIAN
METHOD:PUBLISH
X-WR-CALNAME:SWLT Egyesület
X-ORIGINAL-URL:https://swlt.hu
X-WR-CALDESC:Események SWLT Egyesület
REFRESH-INTERVAL;VALUE=DURATION:PT1H
X-Robots-Tag:noindex
X-PUBLISHED-TTL:PT1H
BEGIN:VTIMEZONE
TZID:UTC
BEGIN:STANDARD
TZOFFSETFROM:+0000
TZOFFSETTO:+0000
TZNAME:UTC
DTSTART:20220101T000000
END:STANDARD
END:VTIMEZONE
BEGIN:VEVENT
DTSTART;TZID=UTC:20230923T150000
DTEND;TZID=UTC:20230924T060000
DTSTAMP:20260422T232529
CREATED:20230820T171023Z
LAST-MODIFIED:20230820T171023Z
UID:684-1695481200-1695535200@swlt.hu
SUMMARY:Nyárzáró BBQ Swinger Party a Börzsönyben
DESCRIPTION:Tavasszal bulival nyitottuk a grillszezont\, most pedig ezzel is zárjuk\, egy hosszabb volumenű bulira invitálunk Titeket! \n  \nDélután egy kisebb túrával nyitunk- kisvasúttal megyünk fel Kisirtásra\, ahonnan komótosan lesétálunk a patak mentén Nagybörzsönybe. (10 km\, kb 1\,5 óra) Ezt követően közös grillezés\, borpince\, éjjel pedig erotikus programok… \nA helyszín a Börzsöny szívében\, az erdő ölelésében\, egy szuper vendégházban lesz 🙂 \n  \nKülön hancúrház\, fedett grillterasz és partyház… \n  \nHangszereket szívesen fogadunk\, egy kis esti tábortűz melletti közös zenéléshez 🙂 \n  \nVendéglátás: \nBBQ ételek- húsos- zöldséges nyársak\, csirkeszárnyak\, grillkoklbászok és természetesen a vegetáriánusoknak is lesznek íncsiklandozó grill zöldségek\, saláták… emellett persze szokás szerint nasik és sütik 🙂 \nItalfogyasztás: bor és alkoholmentes italok állnak rendelkezésre\, minden más szabadon hozható. \n  \nEzúttal POGÁCSA versenyt hirdetünk- a legkülönbözőbb féle házi pogácsákat versenyeztetjük meg és mint mindig\, most is minden indulót jutalmazni fogunk\, a legjobbaknak pedig SWLT utalványokat adunk át 🙂 \n  \nDresscode: mivel kint leszünk a szabadban\, mindenki hozzon azért meleg rucit is\, de ne a szakadt kertészgatyát\, amiben otthon az udvart rendezi 😉 \n  \nA grillezés miatt készüljetek fel\, hogy füstösek leszünk egységesen- ez ugye azért nem megszokott egy- egy swinger bulin\, de a finom ízek és a szabad levegő varázsa remélem\, kárpótol majd Benneteket 😉 \n  \nDíjak: \nCsapatjátékosoknak és SWLT Elsőbálozóknak (vagyis\, ha ez még az első SWLT rendezvényed\, amin részt veszel): \nPároknak: 28 000 Ft \nSzóló férfiaknak: 24 000 Ft \nSzóló hölgyeknek: 10 000 Ft \n  \nFanatikus tagoknak (korábbi VIP tag): – 20 % kedvezmény! \nMegfigyelő tagoknak: + 20 % felár! \n  \nAz eseményen csak egyesületi tagok vehetnek részt (kivéve első körösök)!!!! \nAmennyiben ez lesz az első SWLT program\, melyen részt veszel\, úgy csak a következő rendezvénynél kérjük majd a tagságot. \nEgyesületi regisztráció: \n \n  \nRegisztráció a BBQ Partyra: \n \nAz eseményt 18 főtől megtartjuk 🙂 \n  \nKérünk\, a program 5 000 Ft- os regisztrációs díját regisztrációt követő 2 napon belül utald el az alábbi számlaszámra\, a maradékot a helyszínen készépénzben tudjátok rendezni: \nSWLT Egyesület- Revolut: Revtag @swlt \nSWLT Egyesület – OTP \n11715007-21524772-00000000 \nKözleménybe\, TÁMOGATÁS és a tagsági kódodat (ha van)\, valamint az esemény dátumát írd (aki bizonytalan a kódját illetően\, keressen) SEMMI MÁST NE ÍRJATOK KÖZLEMÉNYBE- KÜLÖNÖSEN AZT NE\, HOGY SWINGER BULI 😂Fennmaradó összeg helyszínen KP- ban vagy szintén átutalással fizetendő.. \nAz eseményt megelőző 72 órán belüli lemondást már nem áll módunkban elfogadni\, ebben az esetben már a teljes díj fizetendő!
URL:https://swlt.hu/event/nyarzaro-bbq-swinger-party-a-borzsonyben/
END:VEVENT
END:VCALENDAR