BEGIN:VCALENDAR
VERSION:2.0
PRODID:-//SWLT Egyesület - ECPv6.15.20//NONSGML v1.0//EN
CALSCALE:GREGORIAN
METHOD:PUBLISH
X-WR-CALNAME:SWLT Egyesület
X-ORIGINAL-URL:https://swlt.hu
X-WR-CALDESC:Események SWLT Egyesület
REFRESH-INTERVAL;VALUE=DURATION:PT1H
X-Robots-Tag:noindex
X-PUBLISHED-TTL:PT1H
BEGIN:VTIMEZONE
TZID:UTC
BEGIN:STANDARD
TZOFFSETFROM:+0000
TZOFFSETTO:+0000
TZNAME:UTC
DTSTART:20220101T000000
END:STANDARD
END:VTIMEZONE
BEGIN:VEVENT
DTSTART;TZID=UTC:20230606T160000
DTEND;TZID=UTC:20230606T190000
DTSTAMP:20260423T030903
CREATED:20230321T233436Z
LAST-MODIFIED:20230321T233436Z
UID:639-1686067200-1686078000@swlt.hu
SUMMARY:Menjünk együtt STD szűrésre! - Moszkva Tér Medical Center
DESCRIPTION:Ismét egy délután\, amikor nyitott részünkre a Moszkva Tér Medical Center STD szűrésre \n\nIgényes\, barátságos környezet és kedvezmény az SWLT tagjainak \n\nIdőpont miatt hívjátok közvetlenül az egészségközpontot és hivatkozzatok az SWLT- re \n\nNe felejtsétek el!\n– megadni a bejelentkezéskor tagsági kódotok!\n– a negatív lelettel 3 hónapig 50% kedvezménnyel jöhettek rendezvényeinkre \n\nRegisztráció:\nhttps://form.jotform.com/230092022813039
URL:https://swlt.hu/event/menjunk-egyutt-std-szuresre-moszkva-ter-medical-center-2/
END:VEVENT
END:VCALENDAR