BEGIN:VCALENDAR
VERSION:2.0
PRODID:-//SWLT Egyesület - ECPv6.15.20//NONSGML v1.0//EN
CALSCALE:GREGORIAN
METHOD:PUBLISH
X-WR-CALNAME:SWLT Egyesület
X-ORIGINAL-URL:https://swlt.hu
X-WR-CALDESC:Események SWLT Egyesület
REFRESH-INTERVAL;VALUE=DURATION:PT1H
X-Robots-Tag:noindex
X-PUBLISHED-TTL:PT1H
BEGIN:VTIMEZONE
TZID:UTC
BEGIN:STANDARD
TZOFFSETFROM:+0000
TZOFFSETTO:+0000
TZNAME:UTC
DTSTART:20220101T000000
END:STANDARD
END:VTIMEZONE
BEGIN:VEVENT
DTSTART;TZID=UTC:20230603T160000
DTEND;TZID=UTC:20230604T040000
DTSTAMP:20260423T030920
CREATED:20230430T172008Z
LAST-MODIFIED:20230430T172008Z
UID:658-1685808000-1685851200@swlt.hu
SUMMARY:SWLT Korhatáros swinger Party- Merci és Peti szervezésében
DESCRIPTION:Már több nagysikerű Merci-Peti buli után terveink és igény szerint 2-3 havonta mindig megújuló tematikával és más- más helyszínen\, de teret adunk a fiatalabb korosztálynak\, hogy egymás társaságát élvezzék… 45 éves korig a pár mindkét tagjának felső korhatára.\n\nMinden bulira az SWLT Eseményregisztrációs felületén tudtok és kell is regisztrálni\, mely önmagában még nem jelent részvételi lehetőséget…. Pár napon belül visszajelzünk\, hogy tudunk- e fogadni a rendezvényen.\n\nA regisztrációs felületet és a programok leírását megtaláljátok a honlapunkon:\nhttps://swlt.hu/rendezvenyek/\n\nAZ SWLT szűrt közössége\, egyesületi tagjai mellett a programra megnyitjuk a teret az új érdeklődőknek is- a jelentkezés számukra is regisztrációhoz és videóbeszélgetéshez kötött\nA Merci és Peti Facebook profilon vegye fel velünk minden új érdeklődő a kapcsolatot. \n\nNe felejtsd el\, ha már egyszer vettél részt 1 SWLT eseményen tagság nélkül a következőre csak akkor tudsz jönni\, ha kiváltod az SWLT Megfigyelő\, Csapatjátékos vagy VIP tagságunkat.\n\nSWLT Tagság kiváltása a befizetett díj után lesz érvényes:\nhttps://form.jotform.com/230552186698062\n\nTematika: Szexi Szobalányok és a Ház Urai\n\nJÚNIUS 3. esemény részletei:\nAz est házigazdái mi\, Merci és Peti leszünk SWLT alapítótagok.\n\nLétszám: 30-60 fő között várható\nAz eseményt 30 fő felett tartjuk meg.\n\nJelentkezéskor kérlek jelöljétek meg\, hogy hány órakor érkeznétek\, ami számunkra visszajelzés\, hogy már a délutáni programon is\, vagy csak az estében vesztek részt majd!\n\nDélutáni programunk:\n16:00 -tól ruhás és szexmentes programokkal várunk benneteket.\nIdeális a kezdő swingereknek\, hogy őszintén nyugodt közegben tudjanak beszélgetni tapasztaltabb swingerekkel és legyen idejük feloldódni\, ismerkedni és ráhangolódni az estére.\n\nEsti programunk:\n20:00-21:00 között pedig indul a fiatalos tematikus swinger éjszaka hajlani 4-ig a szexi szobalányokkal és a ház Uraival.\nHelyszínt a részvevőkkel osztjuk meg hamarosan.\n\nRészvételi díj:\nAki csak a délutáni ismerkedős programra jönne:\nTagság nélkül a délutáni program: 8.000 Ft/ fő\nSWLT- s tagsággal a délutáni programra egységesen 6000 Ft/ Fő\nEgész program 16:00-4:00 h ig tart\nRészvételi díj az egész programra:\nVIP Szóló hölgyeknek: 8.000 Ft\nVIP Pároknak és szóló férfiaknak: 25.000 Ft\nCsapatjátékos szóló nőknek: 12 000 Ft\nCsapatjátékos Pároknak és szóló férfiaknak: 28.000 Ft\nMegfigyelő szóló nőknek: 15 000 Ft\nMegfigyelő Pároknak és szóló férfiaknak: 30.000 Ft\nÚjaknak\, az első SWLT eseményen résztvevőknek- tagsággal még nem rendelkezőknek: Csapatjátékos tagsági szintnek megfelelő részvételi díj: 28 000 Ft (pároknak és szóló férfiaknak)\,\nszóló nőknek: 12 000 Ft\nKülföldieknek: 75 euró\n\nVendéglátás:\nA délután során alkoholmentes italkínálatot biztosítunk\, nasival és szendvicsekkel várunk Titeket. Este kibővített melegételkínálat és korlátozott mennyiségben és választékban alkoholos itallal is készülünk.\nAz egésznapos díj tartalmazza a helyszínt\, programokat\, szervezési költségeket\, Welcome pezsgőt\, korlátlan alkoholmentes italkínálatot\, nasit és hidegtálat\, szendvicseket\, estére meleg ételt\, óvszereket\, törülközőket\, síkosító és természetesen magát a jó hangulatot.\nAlkoholos ital és saját készítésű sütemény szabadon hozható.\n\nDresscode:\nDélutáni programon kényelmes kissé elegáns öltözet.\nEstére 20:00- kor átöltözés\nHölgyeknek: Szexi szobalány\n( https://sexjatek.shop/\ntermékkínálatában megtekinthetőek\, vagy saját ötlet)\nUraknak: Kényelmesen és otthonosan tudják érezni magukat ezért elég a háziköntösük és a meztelen testük\, pont mint otthon. \nSaját papucsot váltócipőt mindenki hozzon magával!\n\nA fenti bulinkra is az alábbi linkre kattintva tudtok jelentkezni:\nRegisztráció leadása nélkül nem tudunk fogadni az eseményünkre:\nhttps://form.jotform.com/230092022813039\n\nVárunk Titeket!\nMerci és Peti \n\nKérünk\, a program 5 000 Ft/FŐ regisztrációs díját regisztrációt követő 2 napon belül utald el az alábbi számlaszámra:\nBankszámlaszám:\nSWLT Egyesület- Revolut Revtag: @swlt IBAN LT51 3250 0326 6896 7293\nSWLT Egyesület- OTP 11715007-21524772-00000000\nSwift kód: OTPVHUHB\nNemzetközi OTP IBAN szàm: HU88117150072152477200000000\nKözleménybe\, TÁMOGATÁS és a tagsági kódodat (ha van)\, valamint az esemény dátumát (04.08.) írd (aki bizonytalan a kódját illetően\, keressen) SEMMI MÁST NE ÍRJATOK KÖZLEMÉNYBE- KÜLÖNÖSEN AZT NE\, HOGY SWINGER BULI\n\nFennmaradó összeg helyszínen készpénzben fizetendő…\n\nAz eseményt megelőző 72 órán belüli lemondást már nem áll módunkban elfogadni\, ebben az esetben már a teljes díj fizetendő.\n\nEseményregisztráció:\nhttps://form.jotform.com/230092022813039
URL:https://swlt.hu/event/swlt-korhataros-swinger-party-merci-es-peti-szervezeseben/
END:VEVENT
END:VCALENDAR