BEGIN:VCALENDAR
VERSION:2.0
PRODID:-//SWLT Egyesület - ECPv6.15.20//NONSGML v1.0//EN
CALSCALE:GREGORIAN
METHOD:PUBLISH
X-WR-CALNAME:SWLT Egyesület
X-ORIGINAL-URL:https://swlt.hu
X-WR-CALDESC:Események SWLT Egyesület
REFRESH-INTERVAL;VALUE=DURATION:PT1H
X-Robots-Tag:noindex
X-PUBLISHED-TTL:PT1H
BEGIN:VTIMEZONE
TZID:UTC
BEGIN:STANDARD
TZOFFSETFROM:+0000
TZOFFSETTO:+0000
TZNAME:UTC
DTSTART:20220101T000000
END:STANDARD
END:VTIMEZONE
BEGIN:VEVENT
DTSTART;TZID=UTC:20230531T080000
DTEND;TZID=UTC:20230531T170000
DTSTAMP:20260423T030919
CREATED:20230531T071305Z
LAST-MODIFIED:20230531T071305Z
UID:672-1685520000-1685552400@swlt.hu
SUMMARY:06.17. Menjünk együtt strandolni! – Naturista strandolás– Délegyháza
DESCRIPTION:Találkozzunk Délegyházán egy közös strandolásra 😉 \nÉrkezés: 10.00\, távozás: amikor már pecsenyére sültünk 😉 \nBár hazánkban nem olyan elterjedtek\, mint például a horvát tengerparton\, azért akad néhány hely\, ahol szabadon engedhetjük magunkat mi is\, akik a napfényt és a víz hullámait fürdőruha nélkül szeretnénk a bőrünkön érezni. \nTöbb naturista strandot is létrehoztak már Magyarországon\, a leghíresebb azonban közülük is talán a Naturista Oázis Kemping\, mely a legrégebbi is egyben. \nA magyar naturizmus bölcsőjének is nevezett strand története egészen 1983-ig nyúlik vissza\, mikor is a naturista filozófia hívei alakuló közgyűlést tartottak a Budapesttől nem messze található Délegyházán\, létrehozva a Magyar Naturisták Egyesületét\, vele együtt pedig az általuk működtetett\, ma 23 hektáros üdülőtelepet\, a Naturista Oázis Kempinget. \nA délegyházi tavak közül az ötös tónál kialakított komplexum ma két strandrésszel\, emellett számos szolgáltatással és szórakozási lehetőséggel várja a naturista életérzés szimpatizánsait és már elképzelhetetlen lenne egy nyár délegyházi strandolás nélkül 😉 \nNe felejtsük el\, hogy a strand nem Swinger paradicsom\, a naturistáknak és a helynek is vannak saját szabályaik\, melyeket természetesen mi is elfogadunk és betartunk\, ahogy elvárjuk a mi eseményeinkre látogatóktól is 🙂 Ilyen szabály náluk például\, hogy szexelni tilos nyilvános helyeken\, hiszen gyerekek\, családok is vannak a strandon! \nA belépőjegyet a helyszínen tudjátok megváltani\, a résztvevőknek szokás szerint messenger csoportot hozunk létre 😉 \n 
URL:https://swlt.hu/event/06-17-menjunk-egyutt-strandolni-naturista-strandolas-delegyhaza/
END:VEVENT
END:VCALENDAR