BEGIN:VCALENDAR
VERSION:2.0
PRODID:-//SWLT Egyesület - ECPv6.15.20//NONSGML v1.0//EN
CALSCALE:GREGORIAN
METHOD:PUBLISH
X-ORIGINAL-URL:https://swlt.hu
X-WR-CALDESC:Események SWLT Egyesület
REFRESH-INTERVAL;VALUE=DURATION:PT1H
X-Robots-Tag:noindex
X-PUBLISHED-TTL:PT1H
BEGIN:VTIMEZONE
TZID:UTC
BEGIN:STANDARD
TZOFFSETFROM:+0000
TZOFFSETTO:+0000
TZNAME:UTC
DTSTART:20220101T000000
END:STANDARD
END:VTIMEZONE
BEGIN:VEVENT
DTSTART;TZID=UTC:20230518T190000
DTEND;TZID=UTC:20230519T010000
DTSTAMP:20260423T043007
CREATED:20230321T232829Z
LAST-MODIFIED:20230321T232829Z
UID:633-1684436400-1684458000@swlt.hu
SUMMARY:Menjünk együtt Klubba! - Swinger 4U!
DESCRIPTION:Ismét közös swingerklub látogatásra hívlak Benneteket!\nIrány a Swinger For You!\nAz estet ismét megelőz 18.00- tól 19.00- ig egy Mentor Times\, amire várjuk azokat a kezdő swingereket\, akik szívesen beszélgetnek tapasztaltabbakkal \n19.00- tól pedig az est résztvevői is csatlakoznak hozzánk \nTalálka a Déryné Bisztró- ban\, egy különtermet foglaltam\, ahol a buli előtt tudunk még kicsit ismerkedni… majd 21:00 óra magasságában átmegyünk együtt a klubba. Aki csak később jönne\, az ott is csatlakozhat hozzánk\, de jelöljetek Ott leszek- et\, mert a létszámot Tomekának le kell adnom.\nSzeretettel invitálom a kezdőket és azokat\, akik még nem jártak a 4U- ban… no persze azokat is\, akik rendszeresen ott töltik a hétvégéket \nMenjünk együtt klubba!\n\nRegisztráció:\nhttps://form.jotform.com/230092022813039
URL:https://swlt.hu/event/menjunk-egyutt-klubba-swinger-4u/
END:VEVENT
END:VCALENDAR