BEGIN:VCALENDAR
VERSION:2.0
PRODID:-//SWLT Egyesület - ECPv6.15.20//NONSGML v1.0//EN
CALSCALE:GREGORIAN
METHOD:PUBLISH
X-WR-CALNAME:SWLT Egyesület
X-ORIGINAL-URL:https://swlt.hu
X-WR-CALDESC:Események SWLT Egyesület
REFRESH-INTERVAL;VALUE=DURATION:PT1H
X-Robots-Tag:noindex
X-PUBLISHED-TTL:PT1H
BEGIN:VTIMEZONE
TZID:UTC
BEGIN:STANDARD
TZOFFSETFROM:+0000
TZOFFSETTO:+0000
TZNAME:UTC
DTSTART:20220101T000000
END:STANDARD
END:VTIMEZONE
BEGIN:VEVENT
DTSTART;TZID=UTC:20230505T180000
DTEND;TZID=UTC:20230506T020000
DTSTAMP:20260423T042008
CREATED:20230321T232612Z
LAST-MODIFIED:20230321T232612Z
UID:631-1683309600-1683338400@swlt.hu
SUMMARY:Menjünk együtt Hot Men Dance előadásra
DESCRIPTION:HOT MEN DANCE – TÚL ÓRA\n\nCsajos est egy igazán laza bulival…\n\nElőadók személyesen kísérnek a helyedre.\nÉrkezéskor Welcome Drink!\nÜltetés érkezési sorrendben történik a kategóriáknak megfelelően!\nAz előadók a teljes nézőteret bevonják műsorukba\, véletlenszerűen választanak ki hölgyeket\, így akár Te is lehetsz a kiválasztott\, ha szeretnél!\nTájékoztatjuk kedves vendégeinket\, hogy a szórakozóhely 18:00-tól nyitja meg kapuit\, az előadás 19:00-tól kezdődik (ÉRKEZÉS MŰSOR ELŐTT FÉL ÓRÁVAL!!!) .\nEgy új\, gyönyörű helyen várunk benneteket!\n\nAz előadás után sincs vége az estének! Hajnalig folyamatosan mennek a Hot Men Dance showk a színpadon közben pedig a legjobb parti slágerekre tudtok bulizni!\n\n1000 Ft-os italkupon vagy az afterparti jegy a bejáratnál kötelezően megvásárólandó!\n\nHelyszín: REMIX RETRO DISCO\nBudapest\, Teréz krt. 55\, 1062\n\nRészvételi díj: 7490 Ft + 1000 Ft érkezéskor fizetendő italkupon és Afterparty jegy\nA részvételi díjat\, kérlek előre utaljátok el\, mert én már megvettem a jegyeket (kivéve az 1000 Ft- os italkupont!) \n\nRegisztráció az eseményre:\nhttps://form.jotform.com/230092022813039\n\nSWLT Egyesület- Revolut @swlt\nIBAN LT51\n3250 0326 6896 7293\nSWLT Egyesület – OTP\n11715007-21524772-00000000\nKözleménybe\, TÁMOGATÁS és a tagsági kódodat (ha van)\, valamint az esemény dátumát 02.17. írd (aki bizonytalan a kódját illetően\, keressen) SEMMI MÁST NE ÍRJATOK KÖZLEMÉNYBE- KÜLÖNÖSEN AZT NE\, HOGY SWINGER BULI \n\n72 órán belüli lemondást nem fogadunk már el!
URL:https://swlt.hu/event/menjunk-egyutt-hot-men-dance-eloadasra/
END:VEVENT
END:VCALENDAR