BEGIN:VCALENDAR
VERSION:2.0
PRODID:-//SWLT Egyesület - ECPv6.15.20//NONSGML v1.0//EN
CALSCALE:GREGORIAN
METHOD:PUBLISH
X-WR-CALNAME:SWLT Egyesület
X-ORIGINAL-URL:https://swlt.hu
X-WR-CALDESC:Események SWLT Egyesület
REFRESH-INTERVAL;VALUE=DURATION:PT1H
X-Robots-Tag:noindex
X-PUBLISHED-TTL:PT1H
BEGIN:VTIMEZONE
TZID:UTC
BEGIN:STANDARD
TZOFFSETFROM:+0000
TZOFFSETTO:+0000
TZNAME:UTC
DTSTART:20220101T000000
END:STANDARD
END:VTIMEZONE
BEGIN:VEVENT
DTSTART;TZID=UTC:20230429T160000
DTEND;TZID=UTC:20230429T200000
DTSTAMP:20260423T070638
CREATED:20230321T232422Z
LAST-MODIFIED:20230321T232422Z
UID:629-1682784000-1682798400@swlt.hu
SUMMARY:Light Nights Club LIVE- KEZDŐKNEK- Beszélgessünk ÉLŐBEN!- Kérdezz!- Felelek!
DESCRIPTION:Imádjuk a havi egyszeri online beszélgetős estünket\, a Light Nights Club programot\, amikor mindig más- más témát járunk körbe a zoom beszélgetésben az éppen jelen lévőkkel \n\nA programot kivittük a személyes térbe\, mert mi is lenne még jobb\, mint személyesen is találkozni és még jobban megnyílni a többiek előtt… Be is vált\, fantasztikusan sikerült az első két alkalom\, így ezentúl rendszeressé tesszük \n\nSzeretettel várunk minden SWLT tagot és úja érdeklődőket is\, ezúttal kötetlenül\, csak egy online regisztrációhoz kötve\, díjmentes programunkra!\n\nA helyszínt a Delight tulaja\, Peti ingyenesen biztosítja egyesületünk számára erre az alkalomra\, mert ő is és mi is tudjuk\, hogy mennyire fontos célkitűzésünk az érdeklődők\, a kezdő swingerek tájékoztatása és azon terek megalkotása\, amelyek egyelőre szex- és természetesen kötelezettségmentesek…\n\nIgény esetén a beszélgetés után maradhatunk is huncutkodni\, ha szeretnénk… Ennek részvételi díjának egyeztetése még folyamatban…\n\nGyertek el\, ha szeretnétek egy jót beszélgetni- laza\, nyitott\, jó fej társaságban!\nGyertek el\, ha érdekel Benneteket a világunk és akadnak bőven kérdéseitek!\nGyertek el\, ha nem láttatok még belülről soha swinger klubot és most betekintést engedünk (ruhában természetesen) az atmoszférába!\nGyertek el\, ha elakadtatok a swinger partnerkeresés útvesztőiben\, ha nem tudjátok\, hol\, milyen platformokra érdemes regisztrálni\, hogy töltsétek ki az adatlapotok a sikeres match érdekében vagy ha épp az érdekelne\, személyesen hol érdemes ismerkedni\, hol futhattok swingerekbe….\n\nA beszégletés résztvevői között egyesületi alapító tagok\, tapasztalt swingerek\, mentorok\, klubtulajdonosok és partyszervezők is lesznek\, így igazán sok oldalról kaphattok információkat \n\nRegisztráció az eseményre:\nhttps://form.jotform.com/230092022813039\n(Ne felejtsétek\, az esemény DÍJMENTES\, ne utaljatok előleget se!)\n\nA pontos címet a résztvevőknek adjuk csak ki….\n\nVárunk Titeket!\nOrs és a mentorcsapat
URL:https://swlt.hu/event/light-nights-club-live-kezdoknek-beszelgessunk-eloben-kerdezz-felelek/
END:VEVENT
END:VCALENDAR