BEGIN:VCALENDAR
VERSION:2.0
PRODID:-//SWLT Egyesület - ECPv6.15.20//NONSGML v1.0//EN
CALSCALE:GREGORIAN
METHOD:PUBLISH
X-WR-CALNAME:SWLT Egyesület
X-ORIGINAL-URL:https://swlt.hu
X-WR-CALDESC:Események SWLT Egyesület
REFRESH-INTERVAL;VALUE=DURATION:PT1H
X-Robots-Tag:noindex
X-PUBLISHED-TTL:PT1H
BEGIN:VTIMEZONE
TZID:UTC
BEGIN:STANDARD
TZOFFSETFROM:+0000
TZOFFSETTO:+0000
TZNAME:UTC
DTSTART:20220101T000000
END:STANDARD
END:VTIMEZONE
BEGIN:VEVENT
DTSTART;TZID=UTC:20230415T160000
DTEND;TZID=UTC:20230416T020000
DTSTAMP:20260423T054314
CREATED:20230321T231954Z
LAST-MODIFIED:20230321T231954Z
UID:625-1681574400-1681610400@swlt.hu
SUMMARY:Társasjáték party LIGHT & HARDCORE- pikáns játékest azoknak\, akik eddig alig bírtak magukkal
DESCRIPTION:2023- tól Társasjáték partyjainkat LIGHT és HARDCORE verzióban is kínáljuk \nKéréseteknek megfelelően most korábban kezdünk \n\nA Light a délutánban (16.00- 19.30) az eddigi\, megszokott\, szexmentes ismerkedést célozza meg\, míg estére a Hardcore (20.00- tól) egy kicsit (sokkal) pikánsabb lesz…\nA játékok az este előrehaladtával egyre inkább feszegetik majd a határokat (no és a nadrágokat)\, majd a győzteseknek járó sok kezes masszázst követően az emeleten indítom be a szokásos\, szexbe forduló kis játékaimat \n\nJátékmester: Ors\n\nHelyszín: Bp.- 14. kerület- Norberto rezidencia (aki eddig lemaradt volna Norberto bulijairól\, most elfoglaljuk eme sokat megélt tereket  )\n\nRészvételi díj csak a délutáni programra:\nVIP: 6 000 Ft/fő\nCsapatjátékos: 8 000 Ft/fő\nMegfigyelő: 10 000 Ft/fő\n\nRészvételi díj a teljes programra (és a csak éjszakára érkezőknek):\nVIP Szóló hölgyeknek: 8.000 Ft\nVIP Pároknak és szóló férfiaknak: 24.000 Ft\nCsapatjátékos szóló nőknek: 12 000 Ft\nCsapatjátékos Pároknak és szóló férfiaknak: 28.000 Ft\nMegfigyelő szóló nőknek: 15 000 Ft\nMegfigyelő Pároknak és szóló férfiaknak: 30.000 Ft\n\nÚjaknak\, az első SWLT eseményen résztvevőknek- tagsággal még nem rendelkezőknek: Csapatjátékos tagsági szintnek megfelelő részvételi díj: 28 000 Ft (pároknak és szóló férfiaknak)\, szóló nőknek: 12 000 Ft\n\nA díj tartalmazza a korlátlan alkoholmentes italkínálatot\, nasit és szendvicseket + meleg és hideg ételeket\, helyszínt\, óvszereket\, törülközőket\, szexjátékszereket\, sikosítót és természetesen magát a programot és a jó hangulatot.\n\nSzóló férfiakat ezúttal- az arányosságot megőrízve\, csak korlátozott létszámban tudunk fogadni!\n\nAlkoholos ital szabadon hozható\, pár üveggel (bor\, Jager…) mi is készülünk \n\nEgyesületi regisztráció:\nhttps://form.jotform.com/230552186698062\n\nRegisztráció a Társasjáték Partyra:\nhttps://form.jotform.com/230092022813039\n\nAz eseményt 16 főtől megtartjuk \n\nKérünk\, a program 5 000 Ft- os regisztrációs díját regisztrációt követő 2 napon belül utald el az alábbi számlaszámra:\nSWLT Egyesület- Revolut IBAN LT51 3250 0326 6896 7293\nSWLT Egyesület- OTP 11715007-21524772-00000000\nSwift kód: OTPVHUHB\nNemzetközi IBAN szàm: HU88117150072152477200000000\nKözleménybe\, TÁMOGATÁS és a tagsági kódodat (ha van)\, valamint az esemény dátumát írd (aki bizonytalan a kódját illetően\, keressen) SEMMI MÁST NE ÍRJATOK KÖZLEMÉNYBE- KÜLÖNÖSEN AZT NE\, HOGY SWINGER BULI Fennmaradó összeg helyszínen KP- ban vagy szintén átutalással fizetendő…\n\nAz eseményt megelőző 72 órán belüli lemondást már nem áll módunkban elfogadni\, ebben az esetben már a teljes díj fizetendő.
URL:https://swlt.hu/event/tarsasjatek-party-light-hardcore-pikans-jatekest-azoknak-akik-eddig-alig-birtak-magukkal/
END:VEVENT
BEGIN:VEVENT
DTSTART;TZID=UTC:20230416T110000
DTEND;TZID=UTC:20230416T180000
DTSTAMP:20260423T054314
CREATED:20230321T232201Z
LAST-MODIFIED:20230321T232201Z
UID:627-1681642800-1681668000@swlt.hu
SUMMARY:Menjünk együtt Túrázni!- Spartacus- ösvény
DESCRIPTION:Bakancsot fel\, irány a természet és ezúttal valóban a csúcsra hajtunk \nElnézve a facebook életeteket\, bizony látom ám\, hogy sokan szeretünk túrázni  Miért is ne tehetnénk együtt\, egy újabb közösségépítő program keretén belül? \nPersze azért mindannyiunknak van szexuális emléke is erdei kalandokról  Semmi se tiltott itt se \n\nAz úticélunk a Spartacus- ösvény\, mely a Dunakanyar legszebb túraösvénye.\n\nA részleteket a résztvevőkkel chatben egyeztetjük \n\nA program természetesen díjmentes\, kis meglepivel készülök azért Nektek \n\nRegisztráció a túrára:\nhttps://form.jotform.com/230092022813039\n(Ne felejtsétek\, az esemény Díjmentes\, ne utaljatok előleget!)\n\nNe felejtsétek\, eseményeinket egyesületi tagjainknak szervezzük! Ha nem vagy még tag\, ideje regisztrálnod \nhttps://form.jotform.com/230552186698062
URL:https://swlt.hu/event/menjunk-egyutt-turazni-spartacus-osveny/
END:VEVENT
END:VCALENDAR