BEGIN:VCALENDAR
VERSION:2.0
PRODID:-//SWLT Egyesület - ECPv6.15.20//NONSGML v1.0//EN
CALSCALE:GREGORIAN
METHOD:PUBLISH
X-WR-CALNAME:SWLT Egyesület
X-ORIGINAL-URL:https://swlt.hu
X-WR-CALDESC:Események SWLT Egyesület
REFRESH-INTERVAL;VALUE=DURATION:PT1H
X-Robots-Tag:noindex
X-PUBLISHED-TTL:PT1H
BEGIN:VTIMEZONE
TZID:UTC
BEGIN:STANDARD
TZOFFSETFROM:+0000
TZOFFSETTO:+0000
TZNAME:UTC
DTSTART:20220101T000000
END:STANDARD
END:VTIMEZONE
BEGIN:VEVENT
DTSTART;TZID=UTC:20230414T180000
DTEND;TZID=UTC:20230415T080000
DTSTAMP:20260423T054313
CREATED:20230228T001926Z
LAST-MODIFIED:20230228T001926Z
UID:536-1681495200-1681545600@swlt.hu
SUMMARY:SWLT Csak Csajok Pizsama Party
DESCRIPTION:Hello csajok!\nRég volt már pizsi party és annyi hölgy jött nyár óta a csoportba\, hogy ideje újra szerveznünk egyet \nA buli ismét a Delight- ban lesz\, egész éjszakára tervezzetek…\nEgy egész éjszakás\, női kibeszélős\, pikáns témákat is boncolgatós\, játékos\, lelkizős\, önfeledt este\, amikor igazán önmagunk lehetünk elvárások\, ítélkezések és tabuk nélkül\, izgalmas programelemekkel kísérve…\nBarátnőket ér csábítani az estre \, de pasikat\, gyerekeket ezúttal kéretik szitterre bízni…\nÉrkezés: 18.00- 19.00 között!\nProgramok: 19.00- tól\nProgram:\n– Szexi fehérneműk vására (próbalehetőséggel és kedvezménnyel)\n– Szexjátékszerek bemutatója\, igény szerint tesztelése\n– Hot Men Dance privát táncosok (2 fő)\n– Diszkrét beszélgetések hajnalig\n+ egy melepetés program \nRészvételi díj:\nVIP tagoknak: 16 000 Ft\nCsapatjátékos és Első körös játékosoknak: 18 000 Ft\nMegfigyelő tagoknak: 22 000 Ft\nA díj tartalmazza a nasit\, szendvicseket\, alkoholos és alkoholmentes italokat korlátlan mennyiségben\, helyszínt és természetesen magát a programot és a jó hangulatot.\nAz eseményen csak egyesületi tagok vehetnek részt!!!!\nAmennyiben ez lesz az első SWLT program\, melyen részt veszel\, úgy csak a következő rendezvénynél kérjük majd a tagságot.\nEgyesületi regisztráció:\nhttps://form.jotform.com/230552186698062\nRegisztráció a Pizsama Partyra:\nhttps://form.jotform.com/230092022813039\nAz eseményt 10 főtől megtartjuk \nKérünk\, a program 5 000 Ft- os regisztrációs díját regisztrációt követő 2 napon belül utald el az alábbi számlaszámra:\nSWLT Egyesület- Revolut IBAN LT51\n3250 0326 6896 7293\nSWLT Egyesület – OTP\n11715007-21524772-00000000\nKözleménybe\, TÁMOGATÁS és a tagsági kódodat (ha van)\, valamint az esemény dátumát írd (aki bizonytalan a kódját illetően\, keressen) SEMMI MÁST NE ÍRJATOK KÖZLEMÉNYBE- KÜLÖNÖSEN AZT NE\, HOGY SWINGER BULI Fennmaradó összeg helyszínen KP- ban vagy szintén átutalással fizetendő…\nAz eseményt megelőző 72 órán belüli lemondást már nem áll módunkban elfogadni\, ebben az esetben már a teljes díj fizetendő.
URL:https://swlt.hu/event/swlt-csak-csajok-pizsama-party/
END:VEVENT
END:VCALENDAR