BEGIN:VCALENDAR
VERSION:2.0
PRODID:-//SWLT Egyesület - ECPv6.15.20//NONSGML v1.0//EN
CALSCALE:GREGORIAN
METHOD:PUBLISH
X-ORIGINAL-URL:https://swlt.hu
X-WR-CALDESC:Események SWLT Egyesület
REFRESH-INTERVAL;VALUE=DURATION:PT1H
X-Robots-Tag:noindex
X-PUBLISHED-TTL:PT1H
BEGIN:VTIMEZONE
TZID:UTC
BEGIN:STANDARD
TZOFFSETFROM:+0000
TZOFFSETTO:+0000
TZNAME:UTC
DTSTART:20220101T000000
END:STANDARD
END:VTIMEZONE
BEGIN:VEVENT
DTSTART;TZID=UTC:20230408T160000
DTEND;TZID=UTC:20230409T060000
DTSTAMP:20260423T054435
CREATED:20230321T231745Z
LAST-MODIFIED:20230321T231745Z
UID:623-1680969600-1681020000@swlt.hu
SUMMARY:SWLT húsvéti Szabad- e locsolni korhatáros swinger Party- Merci és Peti szervezésében
DESCRIPTION:A februári nagysikerű Merci-Peti buli után terveink és igény szerint 2-3 havonta mindig megújuló tematikával és más- más helyszínen\, de teret adunk a fiatalabb korosztálynak\, hogy egymás társaságát élvezzék…\n\nA húsvéti esemény részletei:\nMinden bulira az SWLT Eseményregisztrációs felületén tudtok és kell is regisztrálni\, mely önmagában még nem jelent részvételi lehetőséget…. Pár napon belül visszajelzünk\, hogy tudunk- e fogadni a rendezvényen.\n\nA fiatalabbaknak szóló privát bulijainkon a korhatárt 40 évben jelöljük ki\, viszont lehetőséget biztosítunk arra\, hogy aki még a 46. életévét nem töltötte be és beleillik a fiatalos légkörbe\, részt tudjon venni az eseményünkön. (a pár mindkét tagjának felső korhatára)\nEnnél a döntésnél figyelembe vesszük a már meglévő csapat véleményét is.\n\nAZ SWLT szűrt közössége\, egyesületi tagjai mellett a programra megnyitjuk a teret az új érdeklődőknek is- a jelentkezés számukra is regisztrációhoz és videóbeszélgetéshez kötött!\n\nAz est házigazdái Merci és Peti\, Alapító tagjaink\, Mentoraink\n\nLétszám: 30-50 fő között várható\nAz eseményt 30 fő felett tartjuk meg.\n\nJelentkezéskor kérlek jelöljétek meg\, hogy hány órakor érkeznétek\, ami számunkra visszajelzés\, hogy már a délutáni programon is vagy csak az estében vesztek részt majd. Amennyiben estére nem maradnátok\, úgy kérlek a regisztrációs űrlap utolsó közlemény rovatába írjátok be.\n\nLocsoló vers versennyel!\nMegkérünk minden kedves Urat\, készüljön egy frappáns locsoló verssel.\n\n16:00 -tól ruhás és szexmentes programokkal várunk benneteket.\nIdeális a kezdő swingereknek\, hogy őszintén nyugodt közegben tudjanak beszélgetni tapasztaltabb swingerekkel és legyen idejük feloldódni\, ismerkedni és ráhangolódni az estére.\n\n20:00-21:00 között pedig indul a fiatalos swinger éjszaka hajlani 4-ig.\n\nHelyszín: VincentWega rezidencia – Budapest\, 7. kerület\n\nRészvételi díj:\n\nAki csak a délutáni ismerkedős programra jönne:\nTagság nélkül a délutáni program: 8.000 Ft/ fő\nSWLT- s tagsággal a délutáni programra egységesen 6000 Ft/ Fő\n\nEgész program 16:00-4:00 h ig tart\nRészvételi díj az egész programra:\nVIP Szóló hölgyeknek: 8.000 Ft\nVIP Pároknak és szóló férfiaknak: 25.000 Ft\nCsapatjátékos szóló nőknek: 12 000 Ft\nCsapatjátékos Pároknak és szóló férfiaknak: 28.000 Ft\nMegfigyelő szóló nőknek: 15 000 Ft\nMegfigyelő Pároknak és szóló férfiaknak: 30.000 Ft\n\nÚjaknak\, az első SWLT eseményen résztvevőknek- tagsággal még nem rendelkezőknek: Csapatjátékos tagsági szintnek megfelelő részvételi díj: 28 000 Ft (pároknak és szóló férfiaknak)\, szóló nőknek: 12 000 Ft\nKülföldieknek: 75 euró\n\nVendéglátás:\nA délután során alkoholmentes italkínálatot biztosítunk\, nasival és szendvicsekkel várunk Titeket. Este kibővített melegételkínálat és korlátozott mennyiségben és választékban alkoholos itallal is készülünk.\nAz egésznapos díj tartalmazza a helyszínt\, programokat\, szervezési költségeket\, Welcome pezsgőt\, korlátlan alkoholmentes italkínálatot\, VincentWega koktélt\, száraz fehér és rozé borokat\, nasit és hidegtálat\, szendvicseket\, estére meleg ételt\, óvszereket\, törülközőket\, sikosítót és természetesen magát a jó hangulatot.\nAlkoholos ital és saját készítésű sütemény szabadon hozható.\n\nDresscode:\nDélutáni programnál laza elegancia. Pl: nőknek koktélruha\, férfiaknak ing + farmer.\nEstére Húsvét tematikájának megfelelően:\nHölgyeknek szexi nyuszilány jelmez vagy nyuszis kiegészítők\nUraknak fehér vagy fekete alsónadrág\, mezítelen felsőtest és csokornyakkendő\n\nA fenti bulinkra is az alábbi linkre kattintva tudtok jelentkezni:\nhttps://eu.jotform.com/build/230092022813039\n\nVárunk Titeket!\nMerci és Peti\n\nKérünk\, a program 5 000 Ft/FŐ regisztrációs díját regisztrációt követő 2 napon belül utald el az alábbi számlaszámra:\nBankszámlaszám:\nSWLT Egyesület- Revolut Revtag: @swlt IBAN LT51 3250 0326 6896 7293\nSWLT Egyesület- OTP 11715007-21524772-00000000\nSwift kód: OTPVHUHB\nNemzetközi OTP IBAN szàm: HU88117150072152477200000000\nKözleménybe\, TÁMOGATÁS és a tagsági kódodat (ha van)\, valamint az esemény dátumát (04.08.) írd (aki bizonytalan a kódját illetően\, keressen) SEMMI MÁST NE ÍRJATOK KÖZLEMÉNYBE- KÜLÖNÖSEN AZT NE\, HOGY SWINGER BULI\nFennmaradó összeg helyszínen készpénzben fizetendő…\n\nAz eseményt megelőző 72 órán belüli lemondást már nem áll módunkban elfogadni\, ebben az esetben már a teljes díj fizetendő.
URL:https://swlt.hu/event/swlt-husveti-szabad-e-locsolni-korhataros-swinger-party-merci-es-peti-szervezeseben/
END:VEVENT
END:VCALENDAR