BEGIN:VCALENDAR
VERSION:2.0
PRODID:-//SWLT Egyesület - ECPv6.15.20//NONSGML v1.0//EN
CALSCALE:GREGORIAN
METHOD:PUBLISH
X-ORIGINAL-URL:https://swlt.hu
X-WR-CALDESC:Események SWLT Egyesület
REFRESH-INTERVAL;VALUE=DURATION:PT1H
X-Robots-Tag:noindex
X-PUBLISHED-TTL:PT1H
BEGIN:VTIMEZONE
TZID:UTC
BEGIN:STANDARD
TZOFFSETFROM:+0000
TZOFFSETTO:+0000
TZNAME:UTC
DTSTART:20220101T000000
END:STANDARD
END:VTIMEZONE
BEGIN:VEVENT
DTSTART;TZID=UTC:20230407T190000
DTEND;TZID=UTC:20230407T220000
DTSTAMP:20260423T054436
CREATED:20230321T231451Z
LAST-MODIFIED:20230321T231451Z
UID:621-1680894000-1680904800@swlt.hu
SUMMARY:SWLT Könyvklub - A Vagina monológok
DESCRIPTION:Újabb csemegeprogramot indítunk útjára \n\nInspirációt adtatok ismét és rájöttünk\, annyira végtelen tárháza van a témáinknak könyvekben\, hogy remek alkalom ez megint csak arra\, hogy összejöjjünk\, beszélgessünk\, ismerkedjünk…\n\nSzóval meghirdetném az első Könyvklub Estet\, mely a Vagina monológok c. könyv köré épül.\n\nÉn még huszas éveim elején olvastam és nagyon magával ragadott. Kötelezővé tenném minden nőnek \n\nPDF- ben az eseményben megosztom Veletek\, olvassátok el Ti is és jöjjünk össze egy estére átbeszélni az olvasottakat \n\nA helyszín létszámtól függ\, közösen döntünk.\n\nRészvételi díj egységesen: 4 000 Ft/fő- helyszínen kp- ban\n\nEseményeinket egyesületi tagjainknak szervezzük\, ezért ha nem vagy még tag\, itt az ideje regisztrálni \nhttps://form.jotform.com/230552186698062\n\nRegisztráció az eseményre:\nhttps://form.jotform.com/230092022813039
URL:https://swlt.hu/event/swlt-konyvklub-a-vagina-monologok-2/
END:VEVENT
END:VCALENDAR