BEGIN:VCALENDAR
VERSION:2.0
PRODID:-//SWLT Egyesület - ECPv6.15.20//NONSGML v1.0//EN
CALSCALE:GREGORIAN
METHOD:PUBLISH
X-ORIGINAL-URL:https://swlt.hu
X-WR-CALDESC:Események SWLT Egyesület
REFRESH-INTERVAL;VALUE=DURATION:PT1H
X-Robots-Tag:noindex
X-PUBLISHED-TTL:PT1H
BEGIN:VTIMEZONE
TZID:UTC
BEGIN:STANDARD
TZOFFSETFROM:+0000
TZOFFSETTO:+0000
TZNAME:UTC
DTSTART:20220101T000000
END:STANDARD
END:VTIMEZONE
BEGIN:VEVENT
DTSTART;TZID=UTC:20230401T180000
DTEND;TZID=UTC:20230402T040000
DTSTAMP:20260423T070758
CREATED:20230321T230755Z
LAST-MODIFIED:20230321T230855Z
UID:615-1680372000-1680408000@swlt.hu
SUMMARY:Menjünk együtt Klubba! - Tik Tak Swinger Club Budaörs
DESCRIPTION:Ismét közös swingerklub látogatásra hívlak Benneteket!\nIrány a Tik Tak!\nAz estet ismét megelőz 18.00- tól 19.00- ig egy Mentor Times\, amire várjuk azokat a kezdő swingereket\, akik szívesen beszélgetnek tapasztaltabbakkal \n19.00- tól pedig az est résztvevői is csatlakoznak hozzánk \n\nTalálka a Budapest 30 Pub- ban\, ahol a buli előtt tudunk még kicsit ismerkedni… majd 21:00 óra magasságában átmegyünk együtt a klubba. Aki csak később jönne\, az ott is csatlakozhat hozzánk\, de jelöljetek Ott leszek- et\, mert a létszámot Maciéknak le kell adnom.\nSzeretettel invitálom a kezdőket és azokat\, akik még nem jártak a Tik Takban- ban… no persze azokat is\, akik rendszeresen ott töltik a hétvégéket \nMenjünk együtt klubba!\n\nRegisztráció ITT
URL:https://swlt.hu/event/menjunk-egyutt-klubba-tik-tak-swinger-club-budaors/
END:VEVENT
END:VCALENDAR