BEGIN:VCALENDAR
VERSION:2.0
PRODID:-//SWLT Egyesület - ECPv6.15.20//NONSGML v1.0//EN
CALSCALE:GREGORIAN
METHOD:PUBLISH
X-ORIGINAL-URL:https://swlt.hu
X-WR-CALDESC:Események SWLT Egyesület
REFRESH-INTERVAL;VALUE=DURATION:PT1H
X-Robots-Tag:noindex
X-PUBLISHED-TTL:PT1H
BEGIN:VTIMEZONE
TZID:UTC
BEGIN:STANDARD
TZOFFSETFROM:+0000
TZOFFSETTO:+0000
TZNAME:UTC
DTSTART:20220101T000000
END:STANDARD
END:VTIMEZONE
BEGIN:VEVENT
DTSTART;TZID=UTC:20230325T180000
DTEND;TZID=UTC:20230326T080000
DTSTAMP:20260423T070831
CREATED:20230228T001644Z
LAST-MODIFIED:20230324T063447Z
UID:532-1679767200-1679817600@swlt.hu
SUMMARY:SWLT A sötét 50 árnyalata Party
DESCRIPTION:A tavalyi nagy siker után ismét a soft BDSM világhoz nyúlunk\, a maga eleganciájával és ízléses eszközeivel.\n\nA kapuk 18.00- kor nyílnak és megkezdődik a program\, ismét több helyszínen\, különböző mélységben élthetitek meg az alá- fölérendeltség szintjeit – játékmestereink vezetésével.\n\nA party- t a bevezető játékok fényében kezdőknek is ajánljuk.\n\nDresscode:\n22.00- ig: Hölgyeknek koktélruha\, Uraknak ing\, nyakkendő (és még nadrág  ).\n22.00. tól: Hölgyeknek elegáns szexi fehérneműk és rucik\, Uraknak marad az ing\, nyakkendő…\n\nHelyszín: Bp.- 13. kerület\n\nRészvételi díj a programra:\nVIP Szóló hölgyeknek: 9.000 Ft\nVIP Pároknak és szóló férfiaknak: 26.000 Ft\nCsapatjátékos szóló nőknek: 14 000 Ft\nCsapatjátékos Pároknak és szóló férfiaknak: 29.000 Ft\nMegfigyelő szóló nőknek: 17 000 Ft\nMegfigyelő Pároknak és szóló férfiaknak: 32.000 Ft\nÚjaknak\, az első SWLT eseményen résztvevőknek- tagsággal még nem rendelkezőknek: Csapatjátékos tagsági szintnek megfelelő részvételi díj: 29 000 Ft (pároknak és szóló férfiaknak)\, szóló nőknek: 14 000 Ft\n\nA díj tartalmazza a Welcome italt\, korlátlan alkoholmentes italkínálatot\, nasit és hidegtálat\, szendvicseket\, helyszínt\, óvszereket\, törülközőket\, szexjátékszereket\, sikosítót és természetesen magát a programot és a jó hangulatot.\n\nEgy éjszaka az elegancia\, a fényűzés\, a csillogás és jazz hangulatával…\n\nSzóló férfiakat ezúttal- az arányosságot megőrízve\, csak korlátozott létszámban tudunk fogadni!\n\nAlkoholos ital szabadon hozható.\n\nAz esemény DOHÁNYZÁSMENTES!\n\nEgyesületi regisztráció:\nhttps://form.jotform.com/230552186698062\nRegisztráció a Sötét 50 árnyalata Partyra:\nhttps://form.jotform.com/230092022813039\n\nAz eseményt 20 főtől megtartjuk \n\nKérünk\, a program 5 000 Ft- os regisztrációs díját regisztrációt követő 2 napon belül utald el az alábbi számlaszámra:\nSWLT Egyesület- Revolut IBAN LT51\n3250 0326 6896 7293\nKözleménybe\, TÁMOGATÁS és a tagsági kódodat (ha van)\, valamint az esemény dátumát írd (aki bizonytalan a kódját illetően\, keressen) SEMMI MÁST NE ÍRJATOK KÖZLEMÉNYBE- KÜLÖNÖSEN AZT NE\, HOGY SWINGER BULI Fennmaradó összeg helyszínen KP- ban vagy szintén átutalással fizetendő…\n\nAz eseményt megelőző 72 órán belüli lemondást már nem áll módunkban elfogadni\, ebben az esetben már a teljes díj fizetendő.
URL:https://swlt.hu/event/swlt-a-sotet-50-arnyalata-party/
END:VEVENT
END:VCALENDAR