BEGIN:VCALENDAR
VERSION:2.0
PRODID:-//SWLT Egyesület - ECPv6.15.20//NONSGML v1.0//EN
CALSCALE:GREGORIAN
METHOD:PUBLISH
X-WR-CALNAME:SWLT Egyesület
X-ORIGINAL-URL:https://swlt.hu
X-WR-CALDESC:Események SWLT Egyesület
REFRESH-INTERVAL;VALUE=DURATION:PT1H
X-Robots-Tag:noindex
X-PUBLISHED-TTL:PT1H
BEGIN:VTIMEZONE
TZID:UTC
BEGIN:STANDARD
TZOFFSETFROM:+0000
TZOFFSETTO:+0000
TZNAME:UTC
DTSTART:20220101T000000
END:STANDARD
END:VTIMEZONE
BEGIN:VEVENT
DTSTART;TZID=UTC:20230310T180000
DTEND;TZID=UTC:20230311T030000
DTSTAMP:20260423T070711
CREATED:20230227T235727Z
LAST-MODIFIED:20230227T235727Z
UID:525-1678471200-1678503600@swlt.hu
SUMMARY:Társasjáték party LIGHT- ismerkedős játékest
DESCRIPTION:2023- tól Társasjáték partyjainkat LIGHT és HARDCORE verzióban is kínáljuk \nA Light az eddigi\, megszokott\, szexmentes ismerkedés célozza meg\, míg a Hardcore egy kicsit pikánsabb lesz…\nSzeretjük ezeket a programokat\, ezért nem csoda\, hogy alkalomról- alkalomra egyre nőtt a társaság…\nVáltozatos játékokkal várunk Benneteket!\nJátékmester: Ors\nHelyszín: Bp.- magánlakás\nRészvételi díj a teljes programra:\nVIP: 8 000 Ft/fő\nCsapatjátékos: 10 000 Ft/fő\nMindenki más: 13 000 Ft/fő\nElső SWLT esemény résztvevőknek: 10 000 Ft/fő\nA díj tartalmazza a nasit\, szendvicseket\, alkoholmentes italokat\, helyszínt és természetesen magát a programot és a jó hangulatot.\nAlkoholos ital szabadon hozható\, pár üveggel (bor\, Jager…) mi is készülünk \nAz eseményen csak egyesületi tagok vehetnek részt!!!!\nEgyesületi regisztráció:\nhttps://form.jotform.com/230552186698062\nRegisztráció a Társasjáték Partyra:\nhttps://form.jotform.com/230092022813039\nAz eseményt 10 főtől megtartjuk \nKérünk\, a program 5 000 Ft- os regisztrációs díját regisztrációt követő 2 napon belül utald el az alábbi számlaszámra:\nSWLT Egyesület- Revolut IBAN LT51\n3250 0326 6896 7293\nSWLT Egyesület – OTP\n11715007-21524772-00000000\nKözleménybe\, TÁMOGATÁS és a tagsági kódodat (ha van)\, valamint az esemény dátumát írd (aki bizonytalan a kódját illetően\, keressen) SEMMI MÁST NE ÍRJATOK KÖZLEMÉNYBE- KÜLÖNÖSEN AZT NE\, HOGY SWINGER BULI Fennmaradó összeg helyszínen KP- ban vagy szintén átutalással fizetendő…\nAz eseményt megelőző 72 órán belüli lemondást már nem áll módunkban elfogadni\, ebben az esetben már a teljes díj fizetendő.
URL:https://swlt.hu/event/tarsasjatek-party-light-ismerkedos-jatekest-2/
LOCATION:exclusiveswinger\, Budapest\, Magyarország
END:VEVENT
BEGIN:VEVENT
DTSTART;TZID=UTC:20230311T180000
DTEND;TZID=UTC:20230311T210000
DTSTAMP:20260423T070711
CREATED:20230228T000143Z
LAST-MODIFIED:20230228T000143Z
UID:528-1678557600-1678568400@swlt.hu
SUMMARY:Menjünk együtt Szabadulószobába! - Erogén zóna
DESCRIPTION:Imádok játszani és imádom a szabadulós szobákat és találtam egy újabb pajzánt\, amit mindenképpen Veletek próbálnék ki \nMax 10 főt tudnak fogadni\, de egymás után is játszhatunk csapatban\, ha többen jövünk össze…\nAz a terv\, hogy 6- kor találkozunk egy közeli pub- ban\, 19.00- tól indul a játék\, ami kb 1 óra\, majd akár közösen tovább is mehetünk egy klubba\, ha a csapat úgy dönt \nNo\, jól hangzik? \nA szoba ára: 4500 Ft/fő\nA Pub- ban mindenki fogyasztás alapján fizet\, a klubban pedig a szokásos belépőt…\nGyertek\, legyen egy jó esténk….\nEseményregisztráció:\nhttps://form.jotform.com/230092022813039\nEseményeinket egyesületi tagjainknak szervezzük. Ha nem vagy még tag\, itt tudsz regisztrálni:\nhttps://form.jotform.com/230552186698062\nA szobáról:\nEgy pornófilmforgatás helyszínére érkeztek\, hogy résztvegyetek életetek legnagyobb felnőttfilmes produkciójában. Ez lehet az ugródeszka mindnyájatok számára. Azonban valami nem stimmel\, egy társatok hiányzik. Még nem találkoztatok vele\, azonban sokat hallottatok már róla és azt mondják nélküle még a forgatást sem lehet elkezdeni. A stáb szerint egy őrült rajongó belopózott a stúdióba és megpróbálta elrabolni Sindy Lou-t\, ő azonban biztos helyen rejtőzködik. A feladatotok\, hogy megkeressétek a stúdió legértékesebb tagját\, mielőtt kezdetét veszi a forgatás. Siessetek\, nehogy a támadója találjon rá előbb!\nKérünk\, a program díját regisztrációt követő 2 napon belül utald el az alábbi számlaszámra:\nSWLT Egyesület- Revolut IBAN LT51\n3250 0326 6896 7293\nSWLT Egyesület – OTP\n11715007-21524772-00000000\nKözleménybe\, TÁMOGATÁS és a tagsági kódodat (ha van)\, valamint az esemény dátumát írd (aki bizonytalan a kódját illetően\, keressen) SEMMI MÁST NE ÍRJATOK KÖZLEMÉNYBE- KÜLÖNÖSEN AZT NE\, HOGY SWINGER BULI Fennmaradó összeg helyszínen KP- ban vagy szintén átutalással fizetendő…\nAz eseményt megelőző 72 órán belüli lemondást már nem áll módunkban elfogadni\, ebben az esetben már a teljes díj fizetendő.
URL:https://swlt.hu/event/menjunk-egyutt-szabaduloszobaba-erogen-zona/
END:VEVENT
END:VCALENDAR