BEGIN:VCALENDAR
VERSION:2.0
PRODID:-//SWLT Egyesület - ECPv6.15.20//NONSGML v1.0//EN
CALSCALE:GREGORIAN
METHOD:PUBLISH
X-ORIGINAL-URL:https://swlt.hu
X-WR-CALDESC:Események SWLT Egyesület
REFRESH-INTERVAL;VALUE=DURATION:PT1H
X-Robots-Tag:noindex
X-PUBLISHED-TTL:PT1H
BEGIN:VTIMEZONE
TZID:UTC
BEGIN:STANDARD
TZOFFSETFROM:+0000
TZOFFSETTO:+0000
TZNAME:UTC
DTSTART:20220101T000000
END:STANDARD
END:VTIMEZONE
BEGIN:VEVENT
DTSTART;TZID=UTC:20230303T190000
DTEND;TZID=UTC:20230303T230000
DTSTAMP:20260423T070832
CREATED:20230227T235217Z
LAST-MODIFIED:20230227T235217Z
UID:518-1677870000-1677884400@swlt.hu
SUMMARY:SWLT Könyvklub- A Vagina Monologók
DESCRIPTION:Újabb csemegeprogramot indítunk útjára \nInspirációt adtatok ismét és rájöttünk\, annyira végtelen tárháza van a témáinknak könyvekben\, hogy remek alkalom ez megint csak arra\, hogy összejöjjünk\, beszélgessünk\, ismerkedjünk…\nSzóval meghirdetném az első Könyvklub Estet\, mely a Vagina monológok c. könyv köré épül.\nÉn még huszas éveim elején olvastam és nagyon magával ragadott. Kötelezővé tenném minden nőnek \nPDF- ben az eseményben megosztom Veletek\, olvassátok el Ti is és jöjjünk össze egy estére átbeszélni az olvasottakat \nA helyszín létszámtól függ\, közösen döntünk.\nRészvételi díj egységesen: 4 000 Ft/fő- helyszínen kp- ban\nEseményeinket egyesületi tagjainknak szervezzük\, ezért ha nem vagy még tag\, itt az ideje regisztrálni \nhttps://form.jotform.com/230552186698062\nRegisztráció az eseményre:\nhttps://form.jotform.com/230092022813039
URL:https://swlt.hu/event/swlt-konyvklub-a-vagina-monologok/
ORGANIZER;CN="SWLT":MAILTO:swlt.egyesulet@gmail.com
END:VEVENT
END:VCALENDAR