BEGIN:VCALENDAR
VERSION:2.0
PRODID:-//SWLT Egyesület - ECPv6.15.20//NONSGML v1.0//EN
CALSCALE:GREGORIAN
METHOD:PUBLISH
X-ORIGINAL-URL:https://swlt.hu
X-WR-CALDESC:Események SWLT Egyesület
REFRESH-INTERVAL;VALUE=DURATION:PT1H
X-Robots-Tag:noindex
X-PUBLISHED-TTL:PT1H
BEGIN:VTIMEZONE
TZID:UTC
BEGIN:STANDARD
TZOFFSETFROM:+0000
TZOFFSETTO:+0000
TZNAME:UTC
DTSTART:20220101T000000
END:STANDARD
END:VTIMEZONE
BEGIN:VEVENT
DTSTART;TZID=UTC:20230224T170000
DTEND;TZID=UTC:20230224T223000
DTSTAMP:20260423T081932
CREATED:20230109T195053Z
LAST-MODIFIED:20230109T195053Z
UID:479-1677258000-1677277800@swlt.hu
SUMMARY:Menjünk együtt színházba! - Nyitott házasság
DESCRIPTION:Korábban\, mikor terveztük\, hogy megyünk\, sajnos elmaradt\, viszont most megújult szereposztással ismét műsoron a Nyitott házasság\, így Menjünk Együtt ismét színházba \nCSAK A GYÜLEKEZŐT ÍRTAM KI 17.00- RA\, AZ ELŐADÁS 19.00- KOR KEZDŐDIK \nA Spirit Színházban nézzük a Nyitott házasság című darabot\, ezúttal Cseke Katinka és Zsiga László főszereplésével.\nA hűség fogalma\, a zárt\, hagyományos házasság eszméje elavult\, túlhaladott\, hagyjuk a régi\, klasszikus\, olasz “felszarvazást”\, viselkedjünk modern\, civilizált emberek módjára\, véli Mambretti doktor Dario Fo fergeteges komédiájában\, s egy napon zöld utat kap feleségétől\, Antoniától:\n– Menj csak! Szabad a pálya\, feküdj le azzal\, akivel tetszik… Nekem ez nem megy! Megvagyok én így is… ha te semmiképp nem akarsz már velem lenni\, hát akkor én inkább egyedül… Hidd el\, nyugodt vagyok\, semmi baj\, elülök én szépen itthon…\nCsakugyan ilyen egyszerű lenne ez az egész\, férfi és nő között? Újra lehet alkotni egy házasságot azzal\, hogy kinyitják?\nBizony\, Mambrettiék hálószobája is huzatossá válik\, hálószobatitkaikat viszont teregessék ki ők maguk estéről estére. Vajon bírják-e az iramot?\nEgy kis ízelítő gondolat a darabból:\nhttps://www.youtube.com/watch?v=km9jfl0XBg4\nJegyár:\nmég alku alatt\, de 5-6 ezer Ft körül lesz\nEseményeinket regisztrált\, egyesületi tagjainknak szervezzük.\nEgyesületi regisztráció:\nhttps://form.jotform.com/210186355435050\nRegisztráció a színházi látogatásra:\nhttps://form.jotform.com/212691175078359\n\nKérünk\, a program 5 000 Ft- os regisztrációs díját regisztrációt követő 2 napon belül utald el az alábbi számlaszámra:\nSWLT Egyesület – Számlaszám: 11715007-21524772-00000000\nKözleménybe\, TÁMOGATÁS és a tagsági kódodat (ha van)\, valamint az esemény dátumát (01.30.) írd (aki bizonytalan a kódját illetően\, keressen) SEMMI MÁST NE ÍRJATOK KÖZLEMÉNYBE- KÜLÖNÖSEN AZT NE\, HOGY SWINGER BULI Fennmaradó összeg helyszínen KP- ban vagy szintén átutalással fizetendő…\nAz eseményt megelőző 72 órán belüli lemondást már nem áll módunkban elfogadni\, ebben az esetben már a teljes díj fizetendő.
URL:https://swlt.hu/event/menjunk-egyutt-szinhazba-nyitott-hazassag/
END:VEVENT
END:VCALENDAR