BEGIN:VCALENDAR
VERSION:2.0
PRODID:-//SWLT Egyesület - ECPv6.15.20//NONSGML v1.0//EN
CALSCALE:GREGORIAN
METHOD:PUBLISH
X-WR-CALNAME:SWLT Egyesület
X-ORIGINAL-URL:https://swlt.hu
X-WR-CALDESC:Események SWLT Egyesület
REFRESH-INTERVAL;VALUE=DURATION:PT1H
X-Robots-Tag:noindex
X-PUBLISHED-TTL:PT1H
BEGIN:VTIMEZONE
TZID:UTC
BEGIN:STANDARD
TZOFFSETFROM:+0000
TZOFFSETTO:+0000
TZNAME:UTC
DTSTART:20220101T000000
END:STANDARD
END:VTIMEZONE
BEGIN:VEVENT
DTSTART;TZID=UTC:20230217T180000
DTEND;TZID=UTC:20230217T233000
DTSTAMP:20260423T081630
CREATED:20230109T194814Z
LAST-MODIFIED:20230109T194814Z
UID:477-1676656800-1676676600@swlt.hu
SUMMARY:Menjünk együtt Hot Men Dance előadásra 😉
DESCRIPTION:HOT MEN DANCE – TÚL ÓRA\nVIP jegyek az SWLT hölgyeinek \nElőadók személyesen kísérnek a helyedre.\nAz előadók ezekből a sorokból választanak ki legsűrűbben hölgyeket a műsorba!\nÉrkezéskor Welcome Drink!\nÜltetés érkezési sorrendben történik a kategóriáknak megfelelően!\nAz előadók a teljes nézőteret bevonják műsorukba\, véletlenszerűen választanak ki hölgyeket\, így akár Te is lehetsz a kiválasztott\, ha szeretnél!\nTájékoztatjuk kedves vendégeinket\, hogy a szórakozóhely 18:00-tól nyitja meg kapuit\, az előadás 19:00-tól kezdődik (ÉRKEZÉS MŰSOR ELŐTT FÉL ÓRÁVAL!!!) .\nEgy új\, gyönyörű helyen várunk benneteket!\nAz előadás után sincs vége az estének! Hajnalig folyamatosan mennek a Hot Men Dance showk a színpadon közben pedig a legjobb parti slágerekre tudtok bulizni!\n1000 Ft-os italkupon vagy az afterparti jegy a bejáratnál kötelezően megvásárolandó!\nHelyszín: REMIX RETRO DISCO\nBudapest\, Teréz krt. 55\, 1062\nRészvételi díj: 6990 Ft\nA részvételi díjat\, kérlek előre utaljátok el\, mert én már megvettem a jegyeket \nSWLT Egyesület – Számlaszám: 11715007-21524772-00000000\nKözleménybe\, TÁMOGATÁS és a tagsági kódodat (ha van)\, valamint az esemény dátumát 02.17. írd (aki bizonytalan a kódját illetően\, keressen) SEMMI MÁST NE ÍRJATOK KÖZLEMÉNYBE- KÜLÖNÖSEN AZT NE\, HOGY SWINGER BULI 
URL:https://swlt.hu/event/menjunk-egyutt-hot-men-dance-eloadasra-%f0%9f%98%89/
END:VEVENT
END:VCALENDAR